BEGIN:VCALENDAR
VERSION:2.0
PRODID:icalendar-ruby
CALSCALE:GREGORIAN
METHOD:PUBLISH
BEGIN:VEVENT
DTSTAMP:20260425T140832Z
UID:122-723420@pohick.org
DTSTART:20260626T200000Z
DTEND:20260628T210000Z
CLASS:PUBLIC
CREATED:20260420T155612
DESCRIPTION:Shrine Mont Parish Family Weekend Registration Begins! \nRegist
 ration for the Parish Shrine Mont Family Weekend will begin Sunday\, 26 Ap
 ril in the Parish Hall.  The dates for our Parish Family Weekend are 26 t
 o 28 June.   For assured rooms registration is highly encouraged before 
 or on 17 May. After that date rooms may not be available due to limited av
 ailability .\n RATES:\n                DOUBLE [17 YEARS AN
 D OLDER]: $197\n                SINGHLE [17 YEARS AND OLDER
 ]: $258\n                CHILD [AGE 4-13 YEARS]: $135\n  
               CHILD 3 AND YOUNGER ARE FREE\nQUESTIONS:  CALL
  NEIL SUNDERLAND @ 703.670.2962\, OR EMAIL\, NOMADICMAPPER@AOL.COM.
LAST-MODIFIED:20260420T155612
LOCATION:
SUMMARY:Shrine Mont weekend
URL;VALUE=URI:https://pohick.org/events/shrine-mont-weekend/2026-06-26
END:VEVENT
END:VCALENDAR
