BEGIN:VCALENDAR
VERSION:2.0
PRODID:icalendar-ruby
CALSCALE:GREGORIAN
METHOD:PUBLISH
BEGIN:VEVENT
DTSTAMP:20260423T145530Z
UID:124-727285@pohick.org
DTSTART:20260503T131500Z
DTEND:20260503T141500Z
CLASS:PUBLIC
CREATED:20260421T150750
DESCRIPTION:\n9:15 am: New Member/Inquirers Class- Daniel and Rev. Ted will
  be offering an 8-week class for anyone interested in becoming a member of
  Pohick Church. The series will focus on scripture\, church history\, Angl
 ican theology\, and Liturgy. Classes will be on Sunday mornings at 9:15am 
 in the Vestry House. The class is open to prospective new members and to a
 nyone who would like a refresher on the history and beliefs of Episcopal/A
 nglican Christians. If you are interested in joining Pohick Church\, pleas
 e reach out to Rev. Daniel via email at dcenci@pohick.org.\n
LAST-MODIFIED:20260421T150750
LOCATION:Vestry House
SUMMARY:New Member/Inquirers Class
URL;VALUE=URI:https://pohick.org/events/new-member-inquirers-class/2026-05-
 03
END:VEVENT
END:VCALENDAR
